BEGIN:VCALENDAR
VERSION:2.0
PRODID:-//AppalachiaCry Ministries - ECPv6.15.20//NONSGML v1.0//EN
CALSCALE:GREGORIAN
METHOD:PUBLISH
X-WR-CALNAME:AppalachiaCry Ministries
X-ORIGINAL-URL:https://appalachiacry.com
X-WR-CALDESC:Events for AppalachiaCry Ministries
REFRESH-INTERVAL;VALUE=DURATION:PT1H
X-Robots-Tag:noindex
X-PUBLISHED-TTL:PT1H
BEGIN:VTIMEZONE
TZID:America/New_York
BEGIN:DAYLIGHT
TZOFFSETFROM:-0500
TZOFFSETTO:-0400
TZNAME:EDT
DTSTART:20180311T070000
END:DAYLIGHT
BEGIN:STANDARD
TZOFFSETFROM:-0400
TZOFFSETTO:-0500
TZNAME:EST
DTSTART:20181104T060000
END:STANDARD
BEGIN:DAYLIGHT
TZOFFSETFROM:-0500
TZOFFSETTO:-0400
TZNAME:EDT
DTSTART:20190310T070000
END:DAYLIGHT
BEGIN:STANDARD
TZOFFSETFROM:-0400
TZOFFSETTO:-0500
TZNAME:EST
DTSTART:20191103T060000
END:STANDARD
BEGIN:DAYLIGHT
TZOFFSETFROM:-0500
TZOFFSETTO:-0400
TZNAME:EDT
DTSTART:20200308T070000
END:DAYLIGHT
BEGIN:STANDARD
TZOFFSETFROM:-0400
TZOFFSETTO:-0500
TZNAME:EST
DTSTART:20201101T060000
END:STANDARD
END:VTIMEZONE
BEGIN:VEVENT
DTSTART;TZID=America/New_York:20190404T180000
DTEND;TZID=America/New_York:20190404T200000
DTSTAMP:20260423T063306
CREATED:20190304T015901Z
LAST-MODIFIED:20190304T015901Z
UID:3034-1554400800-1554408000@appalachiacry.com
SUMMARY:Jail Ministry
DESCRIPTION:Please pray as the Gospel of Christ is taken to the inmates of the Salem Correctional Center.
URL:https://appalachiacry.com/event/jail-ministry-2/
LOCATION:Salem Correctional Center\, 7 Industrial Blvd\, Salem\, WV\, 26426\, United States
CATEGORIES:Jail Ministry
ATTACH;FMTTYPE=image/jpeg:https://appalachiacry.com/wp-content/uploads/2019/03/jail_bars_with_hands.jpg
ORGANIZER;CN="AppalachiaCry":MAILTO:info@appalachiacry.com
END:VEVENT
BEGIN:VEVENT
DTSTART;TZID=America/New_York:20190307T190000
DTEND;TZID=America/New_York:20190307T210000
DTSTAMP:20260423T063306
CREATED:20190304T015717Z
LAST-MODIFIED:20190304T015717Z
UID:3031-1551985200-1551992400@appalachiacry.com
SUMMARY:Jail Ministry
DESCRIPTION:Please pray as the Gospel of Christ is taken to the inmates of the Salem Correctional Center.
URL:https://appalachiacry.com/event/jail-ministry/
LOCATION:Salem Correctional Center\, 7 Industrial Blvd\, Salem\, WV\, 26426\, United States
CATEGORIES:Jail Ministry
ATTACH;FMTTYPE=image/jpeg:https://appalachiacry.com/wp-content/uploads/2019/03/jail_bars_with_hands.jpg
ORGANIZER;CN="AppalachiaCry":MAILTO:info@appalachiacry.com
END:VEVENT
END:VCALENDAR