BEGIN:VCALENDAR
VERSION:2.0
PRODID:-//AppalachiaCry Ministries - ECPv6.15.20//NONSGML v1.0//EN
CALSCALE:GREGORIAN
METHOD:PUBLISH
X-WR-CALNAME:AppalachiaCry Ministries
X-ORIGINAL-URL:https://appalachiacry.com
X-WR-CALDESC:Events for AppalachiaCry Ministries
REFRESH-INTERVAL;VALUE=DURATION:PT1H
X-Robots-Tag:noindex
X-PUBLISHED-TTL:PT1H
BEGIN:VTIMEZONE
TZID:America/New_York
BEGIN:DAYLIGHT
TZOFFSETFROM:-0500
TZOFFSETTO:-0400
TZNAME:EDT
DTSTART:20160313T070000
END:DAYLIGHT
BEGIN:STANDARD
TZOFFSETFROM:-0400
TZOFFSETTO:-0500
TZNAME:EST
DTSTART:20161106T060000
END:STANDARD
BEGIN:DAYLIGHT
TZOFFSETFROM:-0500
TZOFFSETTO:-0400
TZNAME:EDT
DTSTART:20170312T070000
END:DAYLIGHT
BEGIN:STANDARD
TZOFFSETFROM:-0400
TZOFFSETTO:-0500
TZNAME:EST
DTSTART:20171105T060000
END:STANDARD
BEGIN:DAYLIGHT
TZOFFSETFROM:-0500
TZOFFSETTO:-0400
TZNAME:EDT
DTSTART:20180311T070000
END:DAYLIGHT
BEGIN:STANDARD
TZOFFSETFROM:-0400
TZOFFSETTO:-0500
TZNAME:EST
DTSTART:20181104T060000
END:STANDARD
BEGIN:DAYLIGHT
TZOFFSETFROM:-0500
TZOFFSETTO:-0400
TZNAME:EDT
DTSTART:20190310T070000
END:DAYLIGHT
BEGIN:STANDARD
TZOFFSETFROM:-0400
TZOFFSETTO:-0500
TZNAME:EST
DTSTART:20191103T060000
END:STANDARD
END:VTIMEZONE
BEGIN:VEVENT
DTSTART;TZID=America/New_York:20180519T180000
DTEND;TZID=America/New_York:20180519T220000
DTSTAMP:20260423T064736
CREATED:20180303T213353Z
LAST-MODIFIED:20180509T012414Z
UID:2469-1526752800-1526767200@appalachiacry.com
SUMMARY:2018 WV Strawberry Festival
DESCRIPTION:The West Virginia Strawberry Festival is a unique\, traditional celebration to honor the strawberry harvest.  Enthusiastic volunteers provide good\, family style entertainment that offers exciting educational and cultural events for everyone. \nThis event provides an opportunity to participate in open-air evangelism in many ways.  These include street preaching\, handing out Gospel tracts\, one-on-one conversations\, and intercessory prayer.  Please consider joining us! \nCLICK TO REGISTER
URL:https://appalachiacry.com/event/2018-wv-strawberry-festival-3/
LOCATION:WV Strawberry Festival\, 15 West Main Street\, Buckhannon\, WV\, 26201\, United States
CATEGORIES:Open-Air Evangelism
ATTACH;FMTTYPE=image/jpeg:https://appalachiacry.com/wp-content/uploads/2017/04/wvstrawberry.jpg
ORGANIZER;CN="AppalachiaCry":MAILTO:info@appalachiacry.com
END:VEVENT
BEGIN:VEVENT
DTSTART;TZID=America/New_York:20180518T180000
DTEND;TZID=America/New_York:20180518T220000
DTSTAMP:20260423T064736
CREATED:20180303T213219Z
LAST-MODIFIED:20180303T213219Z
UID:2467-1526666400-1526680800@appalachiacry.com
SUMMARY:2018 WV Strawberry Festival
DESCRIPTION:The West Virginia Strawberry Festival is a unique\, traditional celebration to honor the strawberry harvest.  Enthusiastic volunteers provide good\, family style entertainment that offers exciting educational and cultural events for everyone. \nThis event provides an opportunity to participate in open-air evangelism in many ways.  These include street preaching\, handing out Gospel tracts\, one-on-one conversations\, and intercessory prayer.  Please consider joining us! \nCLICK TO REGISTER
URL:https://appalachiacry.com/event/2018-wv-strawberry-festival-2/
LOCATION:WV Strawberry Festival\, 15 West Main Street\, Buckhannon\, WV\, 26201\, United States
CATEGORIES:Open-Air Evangelism
ATTACH;FMTTYPE=image/jpeg:https://appalachiacry.com/wp-content/uploads/2017/04/wvstrawberry.jpg
ORGANIZER;CN="AppalachiaCry":MAILTO:info@appalachiacry.com
END:VEVENT
BEGIN:VEVENT
DTSTART;TZID=America/New_York:20180517T180000
DTEND;TZID=America/New_York:20180517T220000
DTSTAMP:20260423T064736
CREATED:20180303T212748Z
LAST-MODIFIED:20180303T212748Z
UID:2465-1526580000-1526594400@appalachiacry.com
SUMMARY:2018 WV Strawberry Festival
DESCRIPTION:The West Virginia Strawberry Festival is a unique\, traditional celebration to honor the strawberry harvest.  Enthusiastic volunteers provide good\, family style entertainment that offers exciting educational and cultural events for everyone. \nThis event provides an opportunity to participate in open-air evangelism in many ways.  These include street preaching\, handing out Gospel tracts\, one-on-one conversations\, and intercessory prayer.  Please consider joining us! \nCLICK TO REGISTER
URL:https://appalachiacry.com/event/2018-wv-strawberry-festival/
LOCATION:WV Strawberry Festival\, 15 West Main Street\, Buckhannon\, WV\, 26201\, United States
CATEGORIES:Open-Air Evangelism
ATTACH;FMTTYPE=image/jpeg:https://appalachiacry.com/wp-content/uploads/2017/04/wvstrawberry.jpg
ORGANIZER;CN="AppalachiaCry":MAILTO:info@appalachiacry.com
END:VEVENT
BEGIN:VEVENT
DTSTART;TZID=America/New_York:20180505T060000
DTEND;TZID=America/New_York:20180505T200000
DTSTAMP:20260423T064736
CREATED:20180303T215654Z
LAST-MODIFIED:20180303T215654Z
UID:2476-1525500000-1525550400@appalachiacry.com
SUMMARY:2018 Kentucky Derby
DESCRIPTION:ACM is joining our brothers at Sports Fan Outreach International (SFOI) to bring the Gospel to the Kentucky Derby. SFOI has been at the last eleven Derby events. \nWe would appreciate your support\, both in prayer and financially to allow us to send 5 ACM members to this event. \nCLICK HERE FOR KY DERBY INFO \nCLICK HERE TO DONATE
URL:https://appalachiacry.com/event/2018-kentucky-derby-3/
LOCATION:Kentucky Derby\, 700 Central Ave\, Louisville\, KY\, 40208\, United States
CATEGORIES:Open-Air Evangelism
ATTACH;FMTTYPE=image/jpeg:https://appalachiacry.com/wp-content/uploads/2018/02/infield_zoom.jpg
ORGANIZER;CN="AppalachiaCry":MAILTO:info@appalachiacry.com
END:VEVENT
BEGIN:VEVENT
DTSTART;TZID=America/New_York:20180504T060000
DTEND;TZID=America/New_York:20180504T200000
DTSTAMP:20260423T064736
CREATED:20180303T215511Z
LAST-MODIFIED:20180303T215511Z
UID:2474-1525413600-1525464000@appalachiacry.com
SUMMARY:2018 Kentucky Derby
DESCRIPTION:ACM is joining our brothers at Sports Fan Outreach International (SFOI) to bring the Gospel to the Kentucky Derby. SFOI has been at the last eleven Derby events. \nWe would appreciate your support\, both in prayer and financially to allow us to send 5 ACM members to this event. \nCLICK HERE FOR KY DERBY INFO \nCLICK HERE TO DONATE
URL:https://appalachiacry.com/event/2018-kentucky-derby-2/
LOCATION:Kentucky Derby\, 700 Central Ave\, Louisville\, KY\, 40208\, United States
CATEGORIES:Open-Air Evangelism
ATTACH;FMTTYPE=image/jpeg:https://appalachiacry.com/wp-content/uploads/2018/02/infield_zoom.jpg
ORGANIZER;CN="AppalachiaCry":MAILTO:info@appalachiacry.com
END:VEVENT
BEGIN:VEVENT
DTSTART;TZID=America/New_York:20180503T120000
DTEND;TZID=America/New_York:20180503T200000
DTSTAMP:20260423T064736
CREATED:20180303T215324Z
LAST-MODIFIED:20180303T215324Z
UID:2472-1525348800-1525377600@appalachiacry.com
SUMMARY:2018 Kentucky Derby
DESCRIPTION:ACM is joining our brothers at Sports Fan Outreach International (SFOI) to bring the Gospel to the Kentucky Derby. SFOI has been at the last eleven Derby events. \nWe would appreciate your support\, both in prayer and financially to allow us to send 5 ACM members to this event. \nCLICK HERE FOR KY DERBY INFO \nCLICK HERE TO DONATE
URL:https://appalachiacry.com/event/2018-kentucky-derby/
LOCATION:Kentucky Derby\, 700 Central Ave\, Louisville\, KY\, 40208\, United States
CATEGORIES:Open-Air Evangelism
ATTACH;FMTTYPE=image/jpeg:https://appalachiacry.com/wp-content/uploads/2018/02/infield_zoom.jpg
ORGANIZER;CN="AppalachiaCry":MAILTO:info@appalachiacry.com
END:VEVENT
BEGIN:VEVENT
DTSTART;TZID=America/New_York:20180428T110000
DTEND;TZID=America/New_York:20180428T150000
DTSTAMP:20260423T064736
CREATED:20180327T020945Z
LAST-MODIFIED:20180327T030805Z
UID:2544-1524913200-1524927600@appalachiacry.com
SUMMARY:2018 WV Ramps and Rails Festival
DESCRIPTION:The Tenth Annual Ramps and Rail Festival will be held on April 28\, 2018. The festival continues to grow each year hosted at the Depot in Elkins. The festival is full of different ramp-themed foods\, live music\, and craft vendors.  We will be open-air preaching and distributing Gospel tracts.  Please consider joining us. \nThis event provides an opportunity to participate in open-air evangelism in many ways. These include street preaching\, handing out Gospel tracts\, one-on-one conversations\, and intercessory prayer. Please consider joining us! \nCONTACT US FOR DETAILS ON HOW TO JOIN
URL:https://appalachiacry.com/event/2018-wv-ramps-and-rails-festival/
LOCATION:Ramps and Rails Festival\, 315 Railroad Avenue\, \, Elkins\, WV\, 26241\, United States
CATEGORIES:Open-Air Evangelism
ATTACH;FMTTYPE=image/jpeg:https://appalachiacry.com/wp-content/uploads/2017/04/wvrampsandrails.jpg
ORGANIZER;CN="AppalachiaCry":MAILTO:info@appalachiacry.com
END:VEVENT
BEGIN:VEVENT
DTSTART;TZID=America/New_York:20180330T090000
DTEND;TZID=America/New_York:20180330T150000
DTSTAMP:20260423T064736
CREATED:20180317T131458Z
LAST-MODIFIED:20180317T205607Z
UID:2532-1522400400-1522422000@appalachiacry.com
SUMMARY:2018 Good Friday Outreach
DESCRIPTION:We will be joining the brethren of Woodbine Baptist Church for their annual Good Friday outreach on the front lawn of the Nicholas County Courthouse in Summersville.  Please pray for those who will hear the proclamation of the Gospel.
URL:https://appalachiacry.com/event/2018-good-friday-outreach/
LOCATION:Nicholas County Courthouse\, 700 Main Street\, Summersville\, WV\, 26651\, United States
CATEGORIES:Open-Air Evangelism
ATTACH;FMTTYPE=image/jpeg:https://appalachiacry.com/wp-content/uploads/2018/03/nc_courthouse.jpg
ORGANIZER;CN="AppalachiaCry":MAILTO:info@appalachiacry.com
END:VEVENT
BEGIN:VEVENT
DTSTART;TZID=America/New_York:20171130T180000
DTEND;TZID=America/New_York:20171130T210000
DTSTAMP:20260423T064736
CREATED:20171120T031004Z
LAST-MODIFIED:20171120T031004Z
UID:2324-1512064800-1512075600@appalachiacry.com
SUMMARY:2017 Bridgeport Light Up Night
DESCRIPTION:We will be ministering to the crowds at the annual Light Up Night held in downtown Bridgeport.  This event offers a great opportunity to have Gospel conversations as many consider the birth of Christ.  Our plan is to join other community businesses and offer some sort of sweets accompanied by Gospel tract distribution\, intentional one-on-one conversations\, the prayer stand\, and we will have the Preach-o-matic there with a Gospel presentation under the black lights. \nTo join or for more information CLICK HERE TO CONTACT US.
URL:https://appalachiacry.com/event/2017-bridgeport-light-night/
LOCATION:Bridgeport Light Up Night\, 164 W. Main Street\, Bridgeport\, WV\, 26330\, United States
CATEGORIES:Community,Open-Air Evangelism
ATTACH;FMTTYPE=image/jpeg:https://appalachiacry.com/wp-content/uploads/2017/11/lightup_night.jpg
ORGANIZER;CN="AppalachiaCry":MAILTO:info@appalachiacry.com
END:VEVENT
BEGIN:VEVENT
DTSTART;TZID=America/New_York:20171007T180000
DTEND;TZID=America/New_York:20171007T220000
DTSTAMP:20260423T064736
CREATED:20170928T153822Z
LAST-MODIFIED:20170928T153822Z
UID:2184-1507399200-1507413600@appalachiacry.com
SUMMARY:2017 Mountain State Forest Festival
DESCRIPTION:The Mountain State Forest Festival is one of the largest and oldest festivals in West Virginia\, continuing to promote the beauty and splendor of its mountains and valleys in all their autumn glory and promoting prudent development\, conservation and culture of our abundant natural resources for the future. \nThis is one of the biggest opportunities to share the Gospel in the state of West Virginia.  We will be engaging the crowds with open-air evangelism\, Gospel tract distribution\, one-on-one evangelism\, and our prayer stand. \nCLICK TO REGISTER!
URL:https://appalachiacry.com/event/2017-mountain-state-forest-festival-2/
LOCATION:Mountain State Forest Festival\, 101 Lough Street\, Elkins\, WV\, 26241\, United States
CATEGORIES:Open-Air Evangelism
ATTACH;FMTTYPE=image/jpeg:https://appalachiacry.com/wp-content/uploads/2017/04/wvforestfestival.jpg
ORGANIZER;CN="AppalachiaCry":MAILTO:info@appalachiacry.com
END:VEVENT
BEGIN:VEVENT
DTSTART;TZID=America/New_York:20171006T180000
DTEND;TZID=America/New_York:20171006T220000
DTSTAMP:20260423T064736
CREATED:20170401T143311Z
LAST-MODIFIED:20170928T165852Z
UID:1437-1507312800-1507327200@appalachiacry.com
SUMMARY:2017 Mountain State Forest Festival
DESCRIPTION:The Mountain State Forest Festival is one of the largest and oldest festivals in West Virginia\, continuing to promote the beauty and splendor of its mountains and valleys in all their autumn glory and promoting prudent development\, conservation and culture of our abundant natural resources for the future. \nThis is one of the biggest opportunities to share the Gospel in the state of West Virginia.  We will be engaging the crowds with open-air evangelism\, Gospel tract distribution\, one-on-one evangelism\, and our prayer stand. \nCLICK TO REGISTER!
URL:https://appalachiacry.com/event/2017-mountain-state-forest-festival/
LOCATION:Mountain State Forest Festival\, 101 Lough Street\, Elkins\, WV\, 26241\, United States
CATEGORIES:Open-Air Evangelism
ATTACH;FMTTYPE=image/jpeg:https://appalachiacry.com/wp-content/uploads/2017/04/wvforestfestival.jpg
ORGANIZER;CN="AppalachiaCry":MAILTO:info@appalachiacry.com
END:VEVENT
BEGIN:VEVENT
DTSTART;TZID=America/New_York:20171005T100000
DTEND;TZID=America/New_York:20171005T140000
DTSTAMP:20260423T064736
CREATED:20170928T155903Z
LAST-MODIFIED:20170928T155903Z
UID:2192-1507197600-1507212000@appalachiacry.com
SUMMARY:ACM 2017 Fall College Tour: University of Virginia
DESCRIPTION:AppalachiaCry Ministries will be laboring alongside other open-air evangelists from SchoolMaster Ministries\, Cross Country Evangelism\, and other individuals to take the Gospel of Christ to the 4 largest campuses in the Appalachia region.  This event is fully manned.  If you would like to participate in future tours\, please email us. \nLearn More About 2017 Fall College Tour
URL:https://appalachiacry.com/event/acm-2017-fall-college-tour-university-virginia/
LOCATION:University of Virginia\, Charlottesville\, VA\, 22903\, United States
CATEGORIES:Open-Air Evangelism
ATTACH;FMTTYPE=image/jpeg:https://appalachiacry.com/wp-content/uploads/2017/09/fct_map.jpg
ORGANIZER;CN="AppalachiaCry":MAILTO:info@appalachiacry.com
END:VEVENT
BEGIN:VEVENT
DTSTART;TZID=America/New_York:20171004T100000
DTEND;TZID=America/New_York:20171004T170000
DTSTAMP:20260423T064736
CREATED:20170928T155329Z
LAST-MODIFIED:20170928T155329Z
UID:2190-1507111200-1507136400@appalachiacry.com
SUMMARY:ACM 2017 Fall College Tour: Virginia Tech
DESCRIPTION:AppalachiaCry Ministries will be laboring alongside other open-air evangelists from SchoolMaster Ministries\, Cross Country Evangelism\, and other individuals to take the Gospel of Christ to the 4 largest campuses in the Appalachia region.  This event is fully manned.  If you would like to participate in future tours\, please email us. \nLearn More About 2017 Fall College Tour
URL:https://appalachiacry.com/event/acm-2017-fall-college-tour-virginia-tech/
LOCATION:Virginia Tech\, Blacksburg\, VA\, 24061\, United States
CATEGORIES:Open-Air Evangelism
ATTACH;FMTTYPE=image/jpeg:https://appalachiacry.com/wp-content/uploads/2017/09/fct_map.jpg
ORGANIZER;CN="AppalachiaCry":MAILTO:info@appalachiacry.com
END:VEVENT
BEGIN:VEVENT
DTSTART;TZID=America/New_York:20171003T100000
DTEND;TZID=America/New_York:20171003T140000
DTSTAMP:20260423T064736
CREATED:20170928T154734Z
LAST-MODIFIED:20170928T154734Z
UID:2188-1507024800-1507039200@appalachiacry.com
SUMMARY:ACM 2017 Fall College Tour: Marshall University
DESCRIPTION:AppalachiaCry Ministries will be laboring alongside other open-air evangelists from SchoolMaster Ministries\, Cross Country Evangelism\, and other individuals to take the Gospel of Christ to the 4 largest campuses in the Appalachia region.  This event is fully manned.  If you would like to participate in future tours\, please email us. \nLearn More About 2017 Fall College Tour
URL:https://appalachiacry.com/event/acm-2017-fall-college-tour-marshall-university/
LOCATION:Marshall University\, 1 John Marshall Drive\, Huntington\, WV\, 25755\, United States
CATEGORIES:Open-Air Evangelism
ATTACH;FMTTYPE=image/jpeg:https://appalachiacry.com/wp-content/uploads/2017/09/fct_map.jpg
ORGANIZER;CN="AppalachiaCry":MAILTO:info@appalachiacry.com
END:VEVENT
BEGIN:VEVENT
DTSTART;TZID=America/New_York:20171002T100000
DTEND;TZID=America/New_York:20171002T140000
DTSTAMP:20260423T064736
CREATED:20170928T154543Z
LAST-MODIFIED:20170928T154543Z
UID:2186-1506938400-1506952800@appalachiacry.com
SUMMARY:ACM 2017 Fall College Tour: WVU
DESCRIPTION:AppalachiaCry Ministries will be laboring alongside other open-air evangelists from SchoolMaster Ministries\, Cross Country Evangelism\, and other individuals to take the Gospel of Christ to the 4 largest campuses in the Appalachia region.  This event is fully manned.  If you would like to participate in future tours\, please email us. \nLearn More About 2017 Fall College Tour
URL:https://appalachiacry.com/event/acm-2017-fall-college-tour-wvu/
LOCATION:West Virginia University\, 1550 University Ave\, Morgantown\, WV\, 26506\, United States
CATEGORIES:Open-Air Evangelism
ATTACH;FMTTYPE=image/jpeg:https://appalachiacry.com/wp-content/uploads/2017/09/fct_map.jpg
ORGANIZER;CN="AppalachiaCry":MAILTO:info@appalachiacry.com
END:VEVENT
BEGIN:VEVENT
DTSTART;TZID=America/New_York:20170909T190000
DTEND;TZID=America/New_York:20170909T220000
DTSTAMP:20260423T064736
CREATED:20170907T165949Z
LAST-MODIFIED:20170907T170038Z
UID:2150-1504983600-1504994400@appalachiacry.com
SUMMARY:2017 WV Black Heritage Festival
DESCRIPTION:What began as a meeting in the spring of 1990 by the Kelly Miller Alumni Association to discuss fund-raising ideas has evolved into what is known today as the West Virginia Black Heritage Festival. The first celebrations held by the African-American community in Clarksburg were commemorations of the signing of the Emancipation Proclamation by President Abraham Lincoln. Appropriately called an “Emancipation Proclamation Celebration\,” the first official event was held on September 22\, 1990 on E.B. Saunders Way (formerly known as Water Street) in Clarksburg\, WV with city officials in attendance for the reading of the Proclamation. \nWe will be engaging the crowd with open-air evangelism and tract distribution. \nCLICK TO REGISTER!
URL:https://appalachiacry.com/event/2017-wv-black-heritage-festival/
LOCATION:WV Black Heritage Festival\, 301 W. Main Street\, Clarksburg\, WV\, 26301\, United States
CATEGORIES:Open-Air Evangelism
ATTACH;FMTTYPE=image/jpeg:https://appalachiacry.com/wp-content/uploads/2017/09/bhf.jpg
ORGANIZER;CN="AppalachiaCry":MAILTO:info@appalachiacry.com
END:VEVENT
BEGIN:VEVENT
DTSTART;TZID=America/New_York:20170908T190000
DTEND;TZID=America/New_York:20170908T220000
DTSTAMP:20260423T064736
CREATED:20170907T163016Z
LAST-MODIFIED:20170907T163016Z
UID:2147-1504897200-1504908000@appalachiacry.com
SUMMARY:2017 Nicholas County Potato Festival
DESCRIPTION:Each year hundreds of people flock to Summersville\, WV to celebrate “potato farming\,” which is a significant part of Nicholas County’s heritage. The festival is geared towards the family and provides an array of activities that include entertainment from local children’s groups to well known entertainment bands. \nWe will be engaging the crowd with open-air evangelism and tract distribution. \nCLICK TO REGISTER!
URL:https://appalachiacry.com/event/2017-nicholas-county-potato-festival/
LOCATION:Nicholas County Potato Festival\, Main Street\, Summersville\, WV\, 26651\, United States
CATEGORIES:Open-Air Evangelism
ATTACH;FMTTYPE=image/jpeg:https://appalachiacry.com/wp-content/uploads/2017/09/ncpotato.jpg
ORGANIZER;CN="AppalachiaCry":MAILTO:info@appalachiacry.com
END:VEVENT
BEGIN:VEVENT
DTSTART;TZID=America/New_York:20170902T190000
DTEND;TZID=America/New_York:20170902T220000
DTSTAMP:20260423T064736
CREATED:20170822T231508Z
LAST-MODIFIED:20170822T231508Z
UID:2088-1504378800-1504389600@appalachiacry.com
SUMMARY:2017 WV Italian Heritage Festival
DESCRIPTION:The West Virginia Italian Heritage Festival will celebrate its 39th year on September 1\, 2\, & 3\, 2017. The WVIHF has in the past been rated among the “Top 100 Events in North America” by the American Bus Association\, a “Top 20 Event” by the Southeast Tourism Society and one of the “Top Four Italian Festivals in the Nation” by the National Sons of Italy. \nWe will be engaging the crowd with open-air evangelism\, tract distribution\, and our prayer stand. \nCLICK TO REGISTER!
URL:https://appalachiacry.com/event/2017-wv-italian-heritage-festival-2/
LOCATION:WV Italian Heritage Festival\, 340 W. Main Street\, Clarksburg\, WV\, 26301\, United States
CATEGORIES:Open-Air Evangelism
ATTACH;FMTTYPE=image/jpeg:https://appalachiacry.com/wp-content/uploads/2015/09/wvihf.jpg
ORGANIZER;CN="AppalachiaCry":MAILTO:info@appalachiacry.com
END:VEVENT
BEGIN:VEVENT
DTSTART;TZID=America/New_York:20170901T190000
DTEND;TZID=America/New_York:20170901T220000
DTSTAMP:20260423T064736
CREATED:20170401T143934Z
LAST-MODIFIED:20170422T142736Z
UID:1440-1504292400-1504303200@appalachiacry.com
SUMMARY:2017 WV Italian Heritage Festival
DESCRIPTION:The West Virginia Italian Heritage Festival will celebrate its 39th year on September 1\, 2\, & 3\, 2017. The WVIHF has in the past been rated among the “Top 100 Events in North America” by the American Bus Association\, a “Top 20 Event” by the Southeast Tourism Society and one of the “Top Four Italian Festivals in the Nation” by the National Sons of Italy. \nWe will be engaging the crowd with open-air evangelism\, tract distribution\, and our prayer stand. \nCLICK TO REGISTER!
URL:https://appalachiacry.com/event/2017-wv-italian-heritage-festival/
LOCATION:WV Italian Heritage Festival\, 340 W. Main Street\, Clarksburg\, WV\, 26301\, United States
CATEGORIES:Open-Air Evangelism
ATTACH;FMTTYPE=image/jpeg:https://appalachiacry.com/wp-content/uploads/2017/04/wvihf.jpg
ORGANIZER;CN="AppalachiaCry":MAILTO:info@appalachiacry.com
END:VEVENT
BEGIN:VEVENT
DTSTART;TZID=America/New_York:20170731T183000
DTEND;TZID=America/New_York:20170731T213000
DTSTAMP:20260423T064736
CREATED:20170627T232544Z
LAST-MODIFIED:20170627T232544Z
UID:1959-1501525800-1501536600@appalachiacry.com
SUMMARY:Weekly Evangelism: Glen Elk
DESCRIPTION:Weather permitting\, street evangelism happens every Monday night in the downtown Clarksburg neighborhood of Glen Elk.  We will be setup across from the Clarksburg Mission. This area is one of the worst parts of town\, so it is essential to be prayed up and ready for just about anything.
URL:https://appalachiacry.com/event/weekly-evangelism-glen-elk-5/
LOCATION:Clarksburg Mission / Glen Elk\, 312 N. 4th St\, Clarksburg\, WV\, 26301\, United States
CATEGORIES:Open-Air Evangelism
ATTACH;FMTTYPE=image/jpeg:https://appalachiacry.com/wp-content/uploads/2017/06/late_night.jpg
ORGANIZER;CN="AppalachiaCry":MAILTO:info@appalachiacry.com
END:VEVENT
BEGIN:VEVENT
DTSTART;TZID=America/New_York:20170724T183000
DTEND;TZID=America/New_York:20170724T213000
DTSTAMP:20260423T064736
CREATED:20170627T232037Z
LAST-MODIFIED:20170627T232037Z
UID:1957-1500921000-1500931800@appalachiacry.com
SUMMARY:Weekly Evangelism: Glen Elk
DESCRIPTION:Weather permitting\, street evangelism happens every Monday night in the downtown Clarksburg neighborhood of Glen Elk.  We will be setup across from the Clarksburg Mission. This area is one of the worst parts of town\, so it is essential to be prayed up and ready for just about anything.
URL:https://appalachiacry.com/event/weekly-evangelism-glen-elk-4/
LOCATION:Clarksburg Mission / Glen Elk\, 312 N. 4th St\, Clarksburg\, WV\, 26301\, United States
CATEGORIES:Open-Air Evangelism
ATTACH;FMTTYPE=image/jpeg:https://appalachiacry.com/wp-content/uploads/2017/06/late_night.jpg
ORGANIZER;CN="AppalachiaCry":MAILTO:info@appalachiacry.com
END:VEVENT
BEGIN:VEVENT
DTSTART;TZID=America/New_York:20170717T183000
DTEND;TZID=America/New_York:20170717T213000
DTSTAMP:20260423T064736
CREATED:20170627T231839Z
LAST-MODIFIED:20170627T232217Z
UID:1955-1500316200-1500327000@appalachiacry.com
SUMMARY:Weekly Evangelism: Glen Elk
DESCRIPTION:Weather permitting\, street evangelism happens every Monday night in the downtown Clarksburg neighborhood of Glen Elk.  We will be setup across from the Clarksburg Mission. This area is one of the worst parts of town\, so it is essential to be prayed up and ready for just about anything.
URL:https://appalachiacry.com/event/weekly-evangelism-glen-elk-3/
LOCATION:Clarksburg Mission / Glen Elk\, 312 N. 4th St\, Clarksburg\, WV\, 26301\, United States
CATEGORIES:Open-Air Evangelism
ATTACH;FMTTYPE=image/jpeg:https://appalachiacry.com/wp-content/uploads/2017/06/late_night.jpg
ORGANIZER;CN="AppalachiaCry":MAILTO:info@appalachiacry.com
END:VEVENT
BEGIN:VEVENT
DTSTART;TZID=America/New_York:20170710T183000
DTEND;TZID=America/New_York:20170710T213000
DTSTAMP:20260423T064736
CREATED:20170627T231626Z
LAST-MODIFIED:20170627T231626Z
UID:1953-1499711400-1499722200@appalachiacry.com
SUMMARY:Weekly Evangelism: Glen Elk
DESCRIPTION:Weather permitting\, street evangelism happens every Monday night in the downtown Clarksburg neighborhood of Glen Elk.  We will be setup across from the Clarksburg Mission. This area is one of the worst parts of town\, so it is essential to be prayed up and ready for just about anything.
URL:https://appalachiacry.com/event/weekly-evangelism-glen-elk-2/
LOCATION:Clarksburg Mission / Glen Elk\, 312 N. 4th St\, Clarksburg\, WV\, 26301\, United States
CATEGORIES:Open-Air Evangelism
ATTACH;FMTTYPE=image/jpeg:https://appalachiacry.com/wp-content/uploads/2017/06/late_night.jpg
ORGANIZER;CN="AppalachiaCry":MAILTO:info@appalachiacry.com
END:VEVENT
BEGIN:VEVENT
DTSTART;TZID=America/New_York:20170703T183000
DTEND;TZID=America/New_York:20170703T213000
DTSTAMP:20260423T064736
CREATED:20170627T231425Z
LAST-MODIFIED:20170627T231714Z
UID:1950-1499106600-1499117400@appalachiacry.com
SUMMARY:Weekly Evangelism: Glen Elk
DESCRIPTION:Weather permitting\, street evangelism happens every Monday night in the downtown Clarksburg neighborhood of Glen Elk.  We will be setup across from the Clarksburg Mission. This area is one of the worst parts of town\, so it is essential to be prayed up and ready for just about anything.
URL:https://appalachiacry.com/event/weekly-evangelism-glen-elk/
LOCATION:Clarksburg Mission / Glen Elk\, 312 N. 4th St\, Clarksburg\, WV\, 26301\, United States
CATEGORIES:Open-Air Evangelism
ATTACH;FMTTYPE=image/jpeg:https://appalachiacry.com/wp-content/uploads/2017/06/late_night.jpg
ORGANIZER;CN="AppalachiaCry":MAILTO:info@appalachiacry.com
END:VEVENT
BEGIN:VEVENT
DTSTART;TZID=America/New_York:20170429T100000
DTEND;TZID=America/New_York:20170429T140000
DTSTAMP:20260423T064736
CREATED:20170401T135803Z
LAST-MODIFIED:20170422T141549Z
UID:1425-1493460000-1493474400@appalachiacry.com
SUMMARY:2017 Ramps and Rail Festival
DESCRIPTION:The Ninth Annual Ramps and Rail Festival will be held on April 29\, 2017. The festival continues to grow each year hosted at the Depot in Elkins. The festival is full of different ramp-themed foods\, live music\, and craft vendors.  We will be open-air preaching and distributing Gospel tracts. \nCLICK TO REGISTER!
URL:https://appalachiacry.com/event/2017-ramps-and-rail-festival/
LOCATION:Ramps and Rails Festival\, 315 Railroad Avenue\, \, Elkins\, WV\, 26241\, United States
CATEGORIES:Open-Air Evangelism
ATTACH;FMTTYPE=image/jpeg:https://appalachiacry.com/wp-content/uploads/2017/04/wvrampsandrails.jpg
ORGANIZER;CN="AppalachiaCry":MAILTO:info@appalachiacry.com
END:VEVENT
END:VCALENDAR