BEGIN:VCALENDAR
VERSION:2.0
PRODID:-//AppalachiaCry Ministries - ECPv6.15.20//NONSGML v1.0//EN
CALSCALE:GREGORIAN
METHOD:PUBLISH
X-WR-CALNAME:AppalachiaCry Ministries
X-ORIGINAL-URL:https://appalachiacry.com
X-WR-CALDESC:Events for AppalachiaCry Ministries
REFRESH-INTERVAL;VALUE=DURATION:PT1H
X-Robots-Tag:noindex
X-PUBLISHED-TTL:PT1H
BEGIN:VTIMEZONE
TZID:America/New_York
BEGIN:DAYLIGHT
TZOFFSETFROM:-0500
TZOFFSETTO:-0400
TZNAME:EDT
DTSTART:20160313T070000
END:DAYLIGHT
BEGIN:STANDARD
TZOFFSETFROM:-0400
TZOFFSETTO:-0500
TZNAME:EST
DTSTART:20161106T060000
END:STANDARD
BEGIN:DAYLIGHT
TZOFFSETFROM:-0500
TZOFFSETTO:-0400
TZNAME:EDT
DTSTART:20170312T070000
END:DAYLIGHT
BEGIN:STANDARD
TZOFFSETFROM:-0400
TZOFFSETTO:-0500
TZNAME:EST
DTSTART:20171105T060000
END:STANDARD
BEGIN:DAYLIGHT
TZOFFSETFROM:-0500
TZOFFSETTO:-0400
TZNAME:EDT
DTSTART:20180311T070000
END:DAYLIGHT
BEGIN:STANDARD
TZOFFSETFROM:-0400
TZOFFSETTO:-0500
TZNAME:EST
DTSTART:20181104T060000
END:STANDARD
BEGIN:DAYLIGHT
TZOFFSETFROM:-0500
TZOFFSETTO:-0400
TZNAME:EDT
DTSTART:20190310T070000
END:DAYLIGHT
BEGIN:STANDARD
TZOFFSETFROM:-0400
TZOFFSETTO:-0500
TZNAME:EST
DTSTART:20191103T060000
END:STANDARD
BEGIN:DAYLIGHT
TZOFFSETFROM:-0500
TZOFFSETTO:-0400
TZNAME:EDT
DTSTART:20200308T070000
END:DAYLIGHT
BEGIN:STANDARD
TZOFFSETFROM:-0400
TZOFFSETTO:-0500
TZNAME:EST
DTSTART:20201101T060000
END:STANDARD
BEGIN:DAYLIGHT
TZOFFSETFROM:-0500
TZOFFSETTO:-0400
TZNAME:EDT
DTSTART:20210314T070000
END:DAYLIGHT
BEGIN:STANDARD
TZOFFSETFROM:-0400
TZOFFSETTO:-0500
TZNAME:EST
DTSTART:20211107T060000
END:STANDARD
BEGIN:DAYLIGHT
TZOFFSETFROM:-0500
TZOFFSETTO:-0400
TZNAME:EDT
DTSTART:20220313T070000
END:DAYLIGHT
BEGIN:STANDARD
TZOFFSETFROM:-0400
TZOFFSETTO:-0500
TZNAME:EST
DTSTART:20221106T060000
END:STANDARD
END:VTIMEZONE
BEGIN:VEVENT
DTSTART;VALUE=DATE:20210429
DTEND;VALUE=DATE:20210503
DTSTAMP:20260420T150317
CREATED:20210223T162459Z
LAST-MODIFIED:20210223T170338Z
UID:6837-1619654400-1619999999@appalachiacry.com
SUMMARY:2021 Kentucky Derby Outreach
DESCRIPTION:ACM will be joining Sports Fan Outreach International again this year to take the Gospel of Christ to over 150\,000 attendees of the 2021 Kentucky Derby. \nDETAILS HERE
URL:https://appalachiacry.com/event/2021-kentucky-derby-outreach/
LOCATION:Kentucky Derby\, 700 Central Ave\, Louisville\, KY\, 40208\, United States
CATEGORIES:Sports Outreach
ATTACH;FMTTYPE=image/jpeg:https://appalachiacry.com/wp-content/uploads/2021/02/ky_derby.jpg
ORGANIZER;CN="AppalachiaCry":MAILTO:info@appalachiacry.com
END:VEVENT
BEGIN:VEVENT
DTSTART;VALUE=DATE:20210204
DTEND;VALUE=DATE:20210208
DTSTAMP:20260420T150317
CREATED:20200922T132057Z
LAST-MODIFIED:20200922T132442Z
UID:6817-1612396800-1612742399@appalachiacry.com
SUMMARY:Super Bowl '21 Outreach
DESCRIPTION:Join ACM Founder and Evangelist Jaycen Saab as he leads 1 of 7 teams to cast the Gospel net across the Tampa\, FL area during the Super Bowl ’21 Outreach. We are partnering with Sports Fan Outreach International (SFOI) who is hosting the outreach. \nInfo & Registration
URL:https://appalachiacry.com/event/super-bowl-21-outreach/
LOCATION:Raymond James Stadium\, 4201 N Dale Mabry Hwy\, Tampa\, FL\, 33607\, United States
CATEGORIES:Sports Outreach
ATTACH;FMTTYPE=image/jpeg:https://appalachiacry.com/wp-content/uploads/2020/09/rjs_sbo_leaders.jpg
ORGANIZER;CN="AppalachiaCry":MAILTO:info@appalachiacry.com
END:VEVENT
BEGIN:VEVENT
DTSTART;VALUE=DATE:20200430
DTEND;VALUE=DATE:20200504
DTSTAMP:20260420T150317
CREATED:20200214T221802Z
LAST-MODIFIED:20200214T221802Z
UID:5576-1588204800-1588550399@appalachiacry.com
SUMMARY:2020 Kentucky Derby Outreach
DESCRIPTION:ACM will be joining Sports Fan Outreach International again this year to take the Gospel of Christ to over 150\,000 attendees of the 2019 Kentucky Derby. \nFor information on how you can join the outreach visit: \n 
URL:https://appalachiacry.com/event/2020-kentucky-derby-outreach/
LOCATION:Kentucky Derby\, 700 Central Ave\, Louisville\, KY\, 40208\, United States
CATEGORIES:Sports Outreach
ATTACH;FMTTYPE=image/jpeg:https://appalachiacry.com/wp-content/uploads/2019/05/2019_ky_derby_02.jpg
ORGANIZER;CN="AppalachiaCry":MAILTO:info@appalachiacry.com
END:VEVENT
BEGIN:VEVENT
DTSTART;VALUE=DATE:20200307
DTEND;VALUE=DATE:20200308
DTSTAMP:20260420T150317
CREATED:20200214T220527Z
LAST-MODIFIED:20200214T220527Z
UID:5573-1583539200-1583625599@appalachiacry.com
SUMMARY:2020 Arnold Sports Festival Outreach
DESCRIPTION:We will be joining brother Michael Coughlin of ThingsAbove.us for his annual outreach to the Arnold Sports Festival. Last year we spent the day preaching and handing out tracts to the masses. The outreach was followed up with a wonderful fellowship meal hosted by Oikos Community Church. \nIf you are interested in joining\, please contact Michael at mac@michaelcoughlin.net
URL:https://appalachiacry.com/event/2020-arnold-sports-festival-outreach/
LOCATION:Greater Columbus Convention Center\, 400 N High St\, Columbus\, OH\, 43215\, United States
CATEGORIES:Sports Outreach
ATTACH;FMTTYPE=image/png:https://appalachiacry.com/wp-content/uploads/2019/01/arnold-classic-worldwide-min.png
ORGANIZER;CN="AppalachiaCry":MAILTO:info@appalachiacry.com
END:VEVENT
BEGIN:VEVENT
DTSTART;TZID=America/New_York:20191123T100000
DTEND;TZID=America/New_York:20191123T120000
DTSTAMP:20260420T150317
CREATED:20191107T031218Z
LAST-MODIFIED:20191107T031218Z
UID:3356-1574503200-1574510400@appalachiacry.com
SUMMARY:2019 WVU vs. Oklahoma State
DESCRIPTION:AppalachiaCry Ministries has partnered with Sports Fan Outreach International to preach the Gospel before WVU home games. We minister among the thousands in the lively Blue Lot just outside the main stadium gates. \nIf you’re interested\, please view the General Outreach Guidelines below. \nGeneral Outreach Guidelines\n  \nCLICK TO VIEW MINISTRY LOCATION \nCLICK TO VIEW BEST\, FREE PARKING LOCATION \n 
URL:https://appalachiacry.com/event/2019-wvu-vs-oklahoma-state/
LOCATION:WVU – Mountaineer Field\, 1 Ira Errett Rodgers Dr\, Morgantown\, WV\, 26505\, United States
CATEGORIES:Sports Outreach
ATTACH;FMTTYPE=image/jpeg:https://appalachiacry.com/wp-content/uploads/2017/04/oa_wvu.jpg
ORGANIZER;CN="AppalachiaCry":MAILTO:info@appalachiacry.com
END:VEVENT
BEGIN:VEVENT
DTSTART;TZID=America/New_York:20191109T100000
DTEND;TZID=America/New_York:20191109T120000
DTSTAMP:20260420T150317
CREATED:20191107T025523Z
LAST-MODIFIED:20191107T025523Z
UID:3354-1573293600-1573300800@appalachiacry.com
SUMMARY:2019 WVU vs. Texas Tech
DESCRIPTION:AppalachiaCry Ministries has partnered with Sports Fan Outreach International to preach the Gospel before WVU home games. We minister among the thousands in the lively Blue Lot just outside the main stadium gates. \nIf you’re interested\, please view the General Outreach Guidelines below. \nGeneral Outreach Guidelines\nCLICK TO VIEW MINISTRY LOCATION \nCLICK TO VIEW BEST\, FREE PARKING LOCATION \n 
URL:https://appalachiacry.com/event/2019-wvu-vs-texas-tech/
LOCATION:WVU – Mountaineer Field\, 1 Ira Errett Rodgers Dr\, Morgantown\, WV\, 26505\, United States
CATEGORIES:Sports Outreach
ATTACH;FMTTYPE=image/jpeg:https://appalachiacry.com/wp-content/uploads/2017/04/oa_wvu.jpg
ORGANIZER;CN="AppalachiaCry":MAILTO:info@appalachiacry.com
END:VEVENT
BEGIN:VEVENT
DTSTART;TZID=America/New_York:20191005T120000
DTEND;TZID=America/New_York:20191005T153000
DTSTAMP:20260420T150317
CREATED:20191001T031629Z
LAST-MODIFIED:20191001T031629Z
UID:3339-1570276800-1570289400@appalachiacry.com
SUMMARY:2019 WVU vs. Texas
DESCRIPTION:AppalachiaCry Ministries has partnered with Sports Fan Outreach International to preach the Gospel before WVU home games. We minister among the thousands in the lively Blue Lot just outside the main stadium gates. \nIf you’re interested\, please view the General Outreach Guidelines below. \nGeneral Outreach Guidelines\nCLICK TO VIEW MINISTRY LOCATION \nCLICK TO VIEW BEST\, FREE PARKING LOCATION \n 
URL:https://appalachiacry.com/event/2019-wvu-vs-texas/
LOCATION:WVU – Mountaineer Field\, 1 Ira Errett Rodgers Dr\, Morgantown\, WV\, 26505\, United States
CATEGORIES:Sports Outreach
ATTACH;FMTTYPE=image/jpeg:https://appalachiacry.com/wp-content/uploads/2018/08/e_wvu_evangelism.jpg
ORGANIZER;CN="AppalachiaCry":MAILTO:info@appalachiacry.com
END:VEVENT
BEGIN:VEVENT
DTSTART;VALUE=DATE:20190502
DTEND;VALUE=DATE:20190506
DTSTAMP:20260420T150317
CREATED:20190403T032107Z
LAST-MODIFIED:20190403T032107Z
UID:3197-1556755200-1557100799@appalachiacry.com
SUMMARY:2019 Kentucky Derby Outreach
DESCRIPTION:ACM will be joining Sports Fan Outreach International again this year to take the Gospel of Christ to over 150\,000 attendees of the 2019 Kentucky Derby. \nDETAILS HERE
URL:https://appalachiacry.com/event/2019-kentucky-derby-outreach/
LOCATION:Kentucky Derby\, 700 Central Ave\, Louisville\, KY\, 40208\, United States
CATEGORIES:Sports Outreach
ATTACH;FMTTYPE=image/jpeg:https://appalachiacry.com/wp-content/uploads/2019/04/2018_ky_derby-e1554260235682.jpg
ORGANIZER;CN="AppalachiaCry":MAILTO:info@appalachiacry.com
END:VEVENT
BEGIN:VEVENT
DTSTART;TZID=America/New_York:20190413T100000
DTEND;TZID=America/New_York:20190413T130000
DTSTAMP:20260420T150317
CREATED:20190320T021615Z
LAST-MODIFIED:20190320T024120Z
UID:3158-1555149600-1555160400@appalachiacry.com
SUMMARY:2019 WVU Spring Game
DESCRIPTION:Join us as we bring the Gospel to Mountaineer Field as the West Virginia Mountaineers kickoff the 2019 season at their Spring Game! This will be a great opportunity for Christians to be exposed to the Game Day atmosphere in a much more calm environment than the usual Game Day. \nCONTACT US if you would like to join!
URL:https://appalachiacry.com/event/2019-wvu-spring-game/
LOCATION:WVU – Mountaineer Field\, 1 Ira Errett Rodgers Dr\, Morgantown\, WV\, 26505\, United States
CATEGORIES:Sports Outreach
ATTACH;FMTTYPE=image/jpeg:https://appalachiacry.com/wp-content/uploads/2018/08/e_wvu_evangelism.jpg
ORGANIZER;CN="AppalachiaCry":MAILTO:info@appalachiacry.com
END:VEVENT
BEGIN:VEVENT
DTSTART;VALUE=DATE:20190301
DTEND;VALUE=DATE:20190303
DTSTAMP:20260420T150317
CREATED:20190114T042916Z
LAST-MODIFIED:20190114T042916Z
UID:2986-1551398400-1551571199@appalachiacry.com
SUMMARY:Arnold Sports Festival
DESCRIPTION:We will be joining brother Michael Coughlin to share the Gospel at the Arnold Sports Festival at the Greater Columbus Convention Center in Columbus\, OH.
URL:https://appalachiacry.com/event/arnold-sports-festival/
LOCATION:Greater Columbus Convention Center\, 400 N High St\, Columbus\, OH\, 43215\, United States
CATEGORIES:Open-Air Evangelism,Sports Outreach
ATTACH;FMTTYPE=image/png:https://appalachiacry.com/wp-content/uploads/2019/01/arnold-classic-worldwide-min.png
ORGANIZER;CN="AppalachiaCry":MAILTO:info@appalachiacry.com
END:VEVENT
BEGIN:VEVENT
DTSTART;VALUE=DATE:20190131
DTEND;VALUE=DATE:20190204
DTSTAMP:20260420T150317
CREATED:20190114T040157Z
LAST-MODIFIED:20190114T040157Z
UID:2981-1548892800-1549238399@appalachiacry.com
SUMMARY:Super Bowl LIII Outreach
DESCRIPTION:We will be joining Sports Fan Outreach International (SFOI) to herald the glorious Gospel at Super Bowl LIII in Atlanta\, GA. We will be preaching in and around Mercedes Benz Stadium for 4 days. \nClick Here to Join Us!!
URL:https://appalachiacry.com/event/super-bowl-liii-outreach/
LOCATION:Mercedes-Benz Stadium\, 1 AMB Drive NW\, Atlanta\, GA\, 30313\, United States
CATEGORIES:Open-Air Evangelism,Sports Outreach
ATTACH;FMTTYPE=image/png:https://appalachiacry.com/wp-content/uploads/2019/01/Super_Bowl_LIII_logo.png
ORGANIZER;CN="AppalachiaCry":MAILTO:info@appalachiacry.com
END:VEVENT
BEGIN:VEVENT
DTSTART;TZID=America/New_York:20181123T160000
DTEND;TZID=America/New_York:20181123T200000
DTSTAMP:20260420T150317
CREATED:20180304T150021Z
LAST-MODIFIED:20180809T021943Z
UID:2490-1542988800-1543003200@appalachiacry.com
SUMMARY:2018 WVU vs. Oklahoma
DESCRIPTION:We will be proclaiming the Gospel of Christ and distributing Gospel tracts to the masses at this WVU football game.  Kickoff is slated for 8:00pm\, so we will be ready to roll at 5:00pm.  Our setup will include men taking turns preaching while others focus on giving out Gospel tracts and one-on-one conversations.  We will also have the prayer stand setup. \nPARKING: There are several options both paid and free around the stadium.  Most of us park for free along RT 705 (see map below) and walk (see green path) to our setup location. \nIf you are interested in joining please CLICK HERE TO REGISTER. \nCLICK TO VIEW PARKING MAP \nCLICK TO VIEW OUR LOCATION AT STADIUM
URL:https://appalachiacry.com/event/2018-wvu-vs-oklahoma/
LOCATION:WVU – Mountaineer Field\, 1 Ira Errett Rodgers Dr\, Morgantown\, WV\, 26505\, United States
CATEGORIES:Sports Outreach
ATTACH;FMTTYPE=image/jpeg:https://appalachiacry.com/wp-content/uploads/2018/08/e_wvu_evangelism.jpg
ORGANIZER;CN="AppalachiaCry":MAILTO:info@appalachiacry.com
END:VEVENT
BEGIN:VEVENT
DTSTART;TZID=America/New_York:20181110T080000
DTEND;TZID=America/New_York:20181110T123000
DTSTAMP:20260420T150317
CREATED:20180304T145756Z
LAST-MODIFIED:20180809T022024Z
UID:2488-1541836800-1541853000@appalachiacry.com
SUMMARY:2018 WVU vs. TCU
DESCRIPTION:We will be proclaiming the Gospel of Christ and distributing Gospel tracts to the masses at this WVU football game.  Kickoff is TBA.  Our setup will include men taking turns preaching while others focus on giving out Gospel tracts and one-on-one conversations.  We will also have the prayer stand setup. \nPARKING: There are several options both paid and free around the stadium.  Most of us park for free along RT 705 (see map below) and walk (see green path) to our setup location. \nIf you are interested in joining please CLICK HERE TO REGISTER. \nCLICK TO VIEW PARKING MAP \nCLICK TO VIEW OUR LOCATION AT STADIUM
URL:https://appalachiacry.com/event/2018-wvu-vs-tcu/
LOCATION:WVU – Mountaineer Field\, 1 Ira Errett Rodgers Dr\, Morgantown\, WV\, 26505\, United States
CATEGORIES:Sports Outreach
ATTACH;FMTTYPE=image/jpeg:https://appalachiacry.com/wp-content/uploads/2018/08/e_wvu_evangelism.jpg
ORGANIZER;CN="AppalachiaCry":MAILTO:info@appalachiacry.com
END:VEVENT
BEGIN:VEVENT
DTSTART;TZID=America/New_York:20181025T160000
DTEND;TZID=America/New_York:20181025T200000
DTSTAMP:20260420T150317
CREATED:20180304T145629Z
LAST-MODIFIED:20180809T022113Z
UID:2486-1540483200-1540497600@appalachiacry.com
SUMMARY:2018 WVU vs. Baylor
DESCRIPTION:We will be proclaiming the Gospel of Christ and distributing Gospel tracts to the masses at this WVU football game.  Kickoff is slated for 7:00pm\, so we will be ready to roll at 4:00pm.  Our setup will include men taking turns preaching while others focus on giving out Gospel tracts and one-on-one conversations.  We will also have the prayer stand setup. \nPARKING: There are several options both paid and free around the stadium.  Most of us park for free along RT 705 (see map below) and walk (see green path) to our setup location. \nIf you are interested in joining please CLICK HERE TO REGISTER. \nCLICK TO VIEW PARKING MAP \nCLICK TO VIEW OUR LOCATION AT STADIUM
URL:https://appalachiacry.com/event/2018-wvu-vs-baylor/
LOCATION:WVU – Mountaineer Field\, 1 Ira Errett Rodgers Dr\, Morgantown\, WV\, 26505\, United States
CATEGORIES:Sports Outreach
ATTACH;FMTTYPE=image/jpeg:https://appalachiacry.com/wp-content/uploads/2018/08/e_wvu_evangelism.jpg
ORGANIZER;CN="AppalachiaCry":MAILTO:info@appalachiacry.com
END:VEVENT
BEGIN:VEVENT
DTSTART;TZID=America/New_York:20181006T080000
DTEND;TZID=America/New_York:20181006T123000
DTSTAMP:20260420T150317
CREATED:20180304T145359Z
LAST-MODIFIED:20180809T021528Z
UID:2484-1538812800-1538829000@appalachiacry.com
SUMMARY:2018 WVU vs. Kansas
DESCRIPTION:We will be proclaiming the Gospel of Christ and distributing Gospel tracts to the masses at this WVU football game.  Kickoff is TBA.  Our setup will include men taking turns preaching while others focus on giving out Gospel tracts and one-on-one conversations.  We will also have the prayer stand setup. \nPARKING: There are several options both paid and free around the stadium.  Most of us park for free along RT 705 (see map below) and walk (see green path) to our setup location. \nIf you are interested in joining please CLICK HERE TO REGISTER. \nCLICK TO VIEW PARKING MAP \nCLICK TO VIEW OUR LOCATION AT STADIUM
URL:https://appalachiacry.com/event/2018-wvu-vs-kansas/
LOCATION:WVU – Mountaineer Field\, 1 Ira Errett Rodgers Dr\, Morgantown\, WV\, 26505\, United States
CATEGORIES:Sports Outreach
ATTACH;FMTTYPE=image/jpeg:https://appalachiacry.com/wp-content/uploads/2018/08/e_wvu_evangelism.jpg
ORGANIZER;CN="AppalachiaCry":MAILTO:info@appalachiacry.com
END:VEVENT
BEGIN:VEVENT
DTSTART;TZID=America/New_York:20180922T080000
DTEND;TZID=America/New_York:20180922T123000
DTSTAMP:20260420T150317
CREATED:20180304T144911Z
LAST-MODIFIED:20180809T021316Z
UID:2480-1537603200-1537619400@appalachiacry.com
SUMMARY:2018 WVU vs. Kansas State
DESCRIPTION:We will be proclaiming the Gospel of Christ and distributing Gospel tracts to the masses at this WVU football game.  Kickoff TBA.  Our setup will include men taking turns preaching while others focus on giving out Gospel tracts and one-on-one conversations.  We will also have the prayer stand setup. \nPARKING: There are several options both paid and free around the stadium.  Most of us park for free along RT 705 (see map below) and walk (see green path) to our setup location. \nIf you are interested in joining please CLICK HERE TO REGISTER. \nCLICK TO VIEW PARKING MAP \nCLICK TO VIEW OUR LOCATION AT STADIUM
URL:https://appalachiacry.com/event/2018-wvu-vs-kansas-state/
LOCATION:WVU – Mountaineer Field\, 1 Ira Errett Rodgers Dr\, Morgantown\, WV\, 26505\, United States
CATEGORIES:Sports Outreach
ATTACH;FMTTYPE=image/jpeg:https://appalachiacry.com/wp-content/uploads/2018/08/e_wvu_evangelism.jpg
ORGANIZER;CN="AppalachiaCry":MAILTO:info@appalachiacry.com
END:VEVENT
BEGIN:VEVENT
DTSTART;TZID=America/New_York:20180908T140000
DTEND;TZID=America/New_York:20180908T180000
DTSTAMP:20260420T150317
CREATED:20180809T015325Z
LAST-MODIFIED:20180809T021216Z
UID:2793-1536415200-1536429600@appalachiacry.com
SUMMARY:2018 WVU vs. Youngstown State
DESCRIPTION:We will be proclaiming the Gospel of Christ and distributing Gospel tracts to the masses at this WVU football game.  Kickoff is slated for 6:00pm\, so we will be ready to roll at 3:00pm.  Our setup will include men taking turns preaching while others focus on giving out Gospel tracts and one-on-one conversations.  We will also have the prayer stand setup. \nPARKING: There are several options both paid and free around the stadium.  Most of us park for free along RT 705 (see map below) and walk (see green path) to our setup location. \nIf you are interested in joining please CLICK HERE TO REGISTER. \nCLICK TO VIEW PARKING MAP \nCLICK TO VIEW OUR LOCATION AT STADIUM
URL:https://appalachiacry.com/event/2018-wvu-vs-youngstown-state-2/
LOCATION:WVU – Mountaineer Field\, 1 Ira Errett Rodgers Dr\, Morgantown\, WV\, 26505\, United States
CATEGORIES:Sports Outreach
ATTACH;FMTTYPE=image/jpeg:https://appalachiacry.com/wp-content/uploads/2018/08/e_wvu_evangelism.jpg
ORGANIZER;CN="AppalachiaCry":MAILTO:info@appalachiacry.com
END:VEVENT
BEGIN:VEVENT
DTSTART;TZID=America/New_York:20180901T080000
DTEND;TZID=America/New_York:20180901T170000
DTSTAMP:20260420T150317
CREATED:20180717T232010Z
LAST-MODIFIED:20180829T001406Z
UID:2766-1535788800-1535821200@appalachiacry.com
SUMMARY:2018 Belk College Kickoff Classic ***CANCELLED***
DESCRIPTION:***CANCELLED*** \n \n***CANCELLED*** \nWhat are you doing Labor Day weekend? Whatever it is\, consider scrapping those plans and joining our team as we proclaim the glorious Gospel of Christ at the 2018 Belk College Kickoff Classic.  Our beloved WVU Mountaineers will be taking on the Tennessee Volunteers in this out-of-conference BIG 12 vs. SEC match-up. \nVisit the our official page for all the details and how you can register to be a part of this event!! \nView Detailed Event Information Here
URL:https://appalachiacry.com/event/2018-belk-college-kickoff-classic/
LOCATION:Bank of America Stadium\, 800 S Mint St\, Charlotte\, NC\, 28202\, United States
CATEGORIES:Sports Outreach
ATTACH;FMTTYPE=image/jpeg:https://appalachiacry.com/wp-content/uploads/2018/07/belk_ko_classic.jpg
ORGANIZER;CN="AppalachiaCry":MAILTO:info@appalachiacry.com
END:VEVENT
BEGIN:VEVENT
DTSTART;TZID=America/New_York:20180407T083000
DTEND;TZID=America/New_York:20180407T133000
DTSTAMP:20260420T150317
CREATED:20180304T151938Z
LAST-MODIFIED:20180406T022749Z
UID:2494-1523089800-1523107800@appalachiacry.com
SUMMARY:2018 WVU Annual Gold-Blue Game
DESCRIPTION:*****CANCELLED BY WVU DUE TO WEATHER*****\nWe will be proclaiming the Gospel of Christ and distributing Gospel tracts to the masses at this WVU football game.  Kickoff is slated for 1:00pm\, so we will be ready to roll at 9:00pm.  Our setup will include men taking turns preaching while others focus on giving out Gospel tracts and one-on-one conversations.  We will also have the prayer stand setup. \nPARKING: There are several options both paid and free around the stadium.  Most of us park for free along RT 705 (see map below) and walk (see green path) to our setup location. \nIf you are interested in joining please click here to contact us. \nCLICK TO VIEW PARKING MAP \nCLICK TO VIEW OUR LOCATION AT STADIUM
URL:https://appalachiacry.com/event/2018-wvu-annual-gold-blue-game/
LOCATION:WVU – Mountaineer Field\, 1 Ira Errett Rodgers Dr\, Morgantown\, WV\, 26505\, United States
CATEGORIES:Sports Outreach
ATTACH;FMTTYPE=image/jpeg:https://appalachiacry.com/wp-content/uploads/2017/04/oa_wvu.jpg
ORGANIZER;CN="AppalachiaCry":MAILTO:info@appalachiacry.com
END:VEVENT
BEGIN:VEVENT
DTSTART;TZID=America/New_York:20171118T080000
DTEND;TZID=America/New_York:20171118T120000
DTSTAMP:20260420T150317
CREATED:20171115T143540Z
LAST-MODIFIED:20171115T143611Z
UID:2311-1510992000-1511006400@appalachiacry.com
SUMMARY:WVU vs. Texas
DESCRIPTION:We will be proclaiming the Gospel of Christ and distributing Gospel tracts to the masses at WVU vs. Texas game.  Kickoff is slated for 12:00pm\, so we will be ready to roll at 8:30am.  Our setup will include men taking turns preaching while others focus on giving out Gospel tracts and one-on-one conversations.  We will also have the prayer stand setup. \nPARKING: There are several options both paid and free around the stadium.  Most of us park for free along RT 705 (see map below) and walk (see green path) to our setup location. \nIf you are interested in joining please click here to contact us. \nCLICK TO VIEW PARKING MAP \nCLICK TO VIEW OUR LOCATION AT STADIUM
URL:https://appalachiacry.com/event/wvu-vs-texas/
LOCATION:WVU – Mountaineer Field\, 1 Ira Errett Rodgers Dr\, Morgantown\, WV\, 26505\, United States
CATEGORIES:Sports Outreach
ATTACH;FMTTYPE=image/jpeg:https://appalachiacry.com/wp-content/uploads/2017/04/oa_wvu.jpg
ORGANIZER;CN="AppalachiaCry":MAILTO:info@appalachiacry.com
END:VEVENT
BEGIN:VEVENT
DTSTART;TZID=America/New_York:20171104T113000
DTEND;TZID=America/New_York:20171104T153000
DTSTAMP:20260420T150317
CREATED:20171027T160353Z
LAST-MODIFIED:20171027T160353Z
UID:2281-1509795000-1509809400@appalachiacry.com
SUMMARY:WVU vs. Iowa State
DESCRIPTION:We will be proclaiming the Gospel of Christ and distributing Gospel tracts to the masses at WVU vs. Iowa State game.  Kickoff is slated for 3:30pm\, so we will be ready to roll at 11:30am.  Our setup will include men taking turns preaching while others focus on giving out Gospel tracts and one-on-one conversations.  We will also have the prayer stand setup. \nPARKING: There are several options both paid and free around the stadium.  Most of us park for free along RT 705 (see map below) and walk (see green path) to our setup location. \nIf you are interested in joining please click here to contact us. \nCLICK TO VIEW PARKING MAP \nCLICK TO VIEW OUR LOCATION AT STADIUM
URL:https://appalachiacry.com/event/wvu-vs-iowa-state/
LOCATION:WVU – Mountaineer Field\, 1 Ira Errett Rodgers Dr\, Morgantown\, WV\, 26505\, United States
CATEGORIES:Sports Outreach
ATTACH;FMTTYPE=image/jpeg:https://appalachiacry.com/wp-content/uploads/2017/04/oa_wvu.jpg
ORGANIZER;CN="AppalachiaCry":MAILTO:info@appalachiacry.com
END:VEVENT
BEGIN:VEVENT
DTSTART;TZID=America/New_York:20171028T090000
DTEND;TZID=America/New_York:20171028T120000
DTSTAMP:20260420T150317
CREATED:20171025T205014Z
LAST-MODIFIED:20171025T205014Z
UID:2276-1509181200-1509192000@appalachiacry.com
SUMMARY:WVU vs. Oklahoma State
DESCRIPTION:We will be proclaiming the Gospel of Christ and distributing Gospel tracts to the masses at WVU vs. Oklahoma State game.  Kickoff is slated for noon\, so we will be ready to roll at 9am.  Our setup will include men taking turns preaching while others focus on giving out Gospel tracts and one-on-one conversations.  We will also have the prayer stand setup. \nPARKING: There are several options both paid and free around the stadium.  Most of us park for free along RT 705 (see map below) and walk (see green path) to our setup location. \nIf you are interested in joining please click here to contact us. \nCLICK TO VIEW PARKING MAP \nCLICK TO VIEW OUR LOCATION AT STADIUM
URL:https://appalachiacry.com/event/wvu-vs-oklahoma-state/
LOCATION:WVU – Mountaineer Field\, 1 Ira Errett Rodgers Dr\, Morgantown\, WV\, 26505\, United States
CATEGORIES:Sports Outreach
ATTACH;FMTTYPE=image/jpeg:https://appalachiacry.com/wp-content/uploads/2017/04/oa_wvu.jpg
ORGANIZER;CN="AppalachiaCry":MAILTO:info@appalachiacry.com
END:VEVENT
END:VCALENDAR