BEGIN:VCALENDAR
VERSION:2.0
PRODID:-//AppalachiaCry Ministries - ECPv6.15.20//NONSGML v1.0//EN
CALSCALE:GREGORIAN
METHOD:PUBLISH
X-ORIGINAL-URL:https://appalachiacry.com
X-WR-CALDESC:Events for AppalachiaCry Ministries
REFRESH-INTERVAL;VALUE=DURATION:PT1H
X-Robots-Tag:noindex
X-PUBLISHED-TTL:PT1H
BEGIN:VTIMEZONE
TZID:America/New_York
BEGIN:DAYLIGHT
TZOFFSETFROM:-0500
TZOFFSETTO:-0400
TZNAME:EDT
DTSTART:20200308T070000
END:DAYLIGHT
BEGIN:STANDARD
TZOFFSETFROM:-0400
TZOFFSETTO:-0500
TZNAME:EST
DTSTART:20201101T060000
END:STANDARD
BEGIN:DAYLIGHT
TZOFFSETFROM:-0500
TZOFFSETTO:-0400
TZNAME:EDT
DTSTART:20210314T070000
END:DAYLIGHT
BEGIN:STANDARD
TZOFFSETFROM:-0400
TZOFFSETTO:-0500
TZNAME:EST
DTSTART:20211107T060000
END:STANDARD
BEGIN:DAYLIGHT
TZOFFSETFROM:-0500
TZOFFSETTO:-0400
TZNAME:EDT
DTSTART:20220313T070000
END:DAYLIGHT
BEGIN:STANDARD
TZOFFSETFROM:-0400
TZOFFSETTO:-0500
TZNAME:EST
DTSTART:20221106T060000
END:STANDARD
END:VTIMEZONE
BEGIN:VEVENT
DTSTART;TZID=America/New_York:20210411T180000
DTEND;TZID=America/New_York:20210411T200000
DTSTAMP:20260420T215205
CREATED:20210223T174032Z
LAST-MODIFIED:20210223T174439Z
UID:6847-1618164000-1618171200@appalachiacry.com
SUMMARY:2021 Spring Evangelism 101 Class
DESCRIPTION:One of our mission objectives is to help equip the local church to Biblically share their faith in any context. You are invited to join us in the Clarksburg\, WV area as this class will be hosted at Jones Run Church in Lumberport\, WV. \nEvangelism 101 Course Details\n  \n 
URL:https://appalachiacry.com/event/2021-spring-evangelism-101-class/
LOCATION:Jones Run Church\, Jones Run Road\, Lumberport\, WV\, WV\, 26366\, United States
CATEGORIES:Training
ATTACH;FMTTYPE=image/jpeg:https://appalachiacry.com/wp-content/uploads/2021/02/evg_101.jpg
ORGANIZER;CN="AppalachiaCry":MAILTO:info@appalachiacry.com
END:VEVENT
END:VCALENDAR